BEGIN:VCALENDAR
METHOD:PUBLISH
PRODID:-//Weblication CMS
VERSION:2.0
BEGIN:VEVENT
SUMMARY:Weihnachtsmarkt – Das blaue Weihnachtswunder 
DTSTART;VALUE=DATE:20241129
DTEND;VALUE=DATE:20241201
DESCRIPTION:
LOCATION:Karolingerplatz
UID:https://lorsch.de/de/veranstaltungen/termine/Weihnachtsmarkt-Das-blaue-Weihnachtswunder-2.php
URL:https://lorsch.de/de/veranstaltungen/termine/Weihnachtsmarkt-Das-blaue-Weihnachtswunder-2.php
END:VEVENT
END:VCALENDAR