BEGIN:VCALENDAR
METHOD:PUBLISH
PRODID:-//Weblication CMS
VERSION:2.0
BEGIN:VEVENT
SUMMARY:Sonderführung Weihnachten
DTSTART:20251206T180000
DTEND:20251206T180000
DESCRIPTION:"Weihnachtliche Traditionen, Bräuche und ihre Ursprünge"
LOCATION:
UID:https://lorsch.de/de/veranstaltungen/termine/Weihnachten.php
URL:https://lorsch.de/de/veranstaltungen/termine/Weihnachten.php
END:VEVENT
END:VCALENDAR