BEGIN:VCALENDAR
METHOD:PUBLISH
PRODID:-//Weblication CMS
VERSION:2.0
BEGIN:VEVENT
SUMMARY:Weckruf
DTSTART:20260501T060000
DTEND:20260501T060000
DESCRIPTION:
LOCATION:Stadtgebiet 
UID:https://lorsch.de/de/veranstaltungen/termine/Weckruf-1.php
URL:https://lorsch.de/de/veranstaltungen/termine/Weckruf-1.php
END:VEVENT
END:VCALENDAR