BEGIN:VCALENDAR
METHOD:PUBLISH
PRODID:-//Weblication CMS
VERSION:2.0
BEGIN:VEVENT
SUMMARY:Tauffest am Badesee
DTSTART:20240707T100000
DTEND:20240707T100000
DESCRIPTION:
LOCATION:
UID:https://lorsch.de/de/veranstaltungen/termine/Tauffest-am-Badesee.php
URL:https://lorsch.de/de/veranstaltungen/termine/Tauffest-am-Badesee.php
END:VEVENT
END:VCALENDAR