BEGIN:VCALENDAR
METHOD:PUBLISH
PRODID:-//Weblication CMS
VERSION:2.0
BEGIN:VEVENT
SUMMARY:Sternsingeraktion
DTSTART:20240106T000000
DTEND:20240106T000000
DESCRIPTION:
LOCATION:
UID:https://lorsch.de/de/veranstaltungen/termine/Sternsingeraktion-1.php
URL:https://lorsch.de/de/veranstaltungen/termine/Sternsingeraktion-1.php
END:VEVENT
END:VCALENDAR