BEGIN:VCALENDAR
METHOD:PUBLISH
PRODID:-//Weblication CMS
VERSION:2.0
BEGIN:VEVENT
SUMMARY:Stadtradeln
DTSTART;VALUE=DATE:20260501
DTEND;VALUE=DATE:20260521
DESCRIPTION:
LOCATION:
UID:https://lorsch.de/de/veranstaltungen/termine/Stadtradeln.php
URL:https://lorsch.de/de/veranstaltungen/termine/Stadtradeln.php
END:VEVENT
END:VCALENDAR