BEGIN:VCALENDAR
METHOD:PUBLISH
PRODID:-//Weblication CMS
VERSION:2.0
BEGIN:VEVENT
SUMMARY:Stadtführung (mit Anmeldung)
DTSTART:20260403T140000
DTEND:20260403T140000
DESCRIPTION:
LOCATION:Altes Rathaus
UID:https://lorsch.de/de/veranstaltungen/termine/Stadtfuehrung-mit-Anmeldung.php
URL:https://lorsch.de/de/veranstaltungen/termine/Stadtfuehrung-mit-Anmeldung.php
END:VEVENT
END:VCALENDAR