BEGIN:VCALENDAR
METHOD:PUBLISH
PRODID:-//Weblication CMS
VERSION:2.0
BEGIN:VEVENT
SUMMARY:Stadtführung
DTSTART:20251101T180000
DTEND:20251101T180000
DESCRIPTION:Allerheiligen/Halloween - "Schattenwege - Allerseelen, Halloween und die Geheimnisse des Todes"
LOCATION:Altes Rathaus
UID:https://lorsch.de/de/veranstaltungen/termine/Stadtfuehrung-November.php
URL:https://lorsch.de/de/veranstaltungen/termine/Stadtfuehrung-November.php
END:VEVENT
END:VCALENDAR