BEGIN:VCALENDAR
METHOD:PUBLISH
PRODID:-//Weblication CMS
VERSION:2.0
BEGIN:VEVENT
SUMMARY:Schau für Deutsche Schäferhunde
DTSTART:20241201T000000
DTEND:20241201T000000
DESCRIPTION:
LOCATION:
UID:https://lorsch.de/de/veranstaltungen/termine/Schau-fuer-Deutsche-Schaeferhunde.php
URL:https://lorsch.de/de/veranstaltungen/termine/Schau-fuer-Deutsche-Schaeferhunde.php
END:VEVENT
END:VCALENDAR