BEGIN:VCALENDAR
METHOD:PUBLISH
PRODID:-//Weblication CMS
VERSION:2.0
BEGIN:VEVENT
SUMMARY:Rathauskonzert – Matthias Jakob und Thomas Adelberger
DTSTART:20251019T180000
DTEND:20251019T180000
DESCRIPTION:„FANDANGO & mehr“
LOCATION:Nibelungensaal im Alten Rathaus
UID:https://lorsch.de/de/veranstaltungen/termine/Rathauskonzert-Matthias-Jakob-und-Thomas-Adelberger.php
URL:https://lorsch.de/de/veranstaltungen/termine/Rathauskonzert-Matthias-Jakob-und-Thomas-Adelberger.php
END:VEVENT
END:VCALENDAR