BEGIN:VCALENDAR
METHOD:PUBLISH
PRODID:-//Weblication CMS
VERSION:2.0
BEGIN:VEVENT
SUMMARY:Rathauskonzert V
DTSTART:20261025T180000
DTEND:20261025T200000
DESCRIPTION:Vielsaitig - Klangwelten mit Harfe und Gitarre Mit Matthias Jakob
LOCATION:Altes Rathaus
UID:https://lorsch.de/de/veranstaltungen/termine/Rathauskonzert-5.php
URL:https://lorsch.de/de/veranstaltungen/termine/Rathauskonzert-5.php
END:VEVENT
END:VCALENDAR