BEGIN:VCALENDAR
METHOD:PUBLISH
PRODID:-//Weblication CMS
VERSION:2.0
BEGIN:VEVENT
SUMMARY:Rathauskonzert III
DTSTART:20260426T180000
DTEND:20260426T200000
DESCRIPTION:Musik des Adels - Musik des Volkes Mit Matthias Jakob
LOCATION:Altes Rathaus
UID:https://lorsch.de/de/veranstaltungen/termine/Rathauskonzert-2.php
URL:https://lorsch.de/de/veranstaltungen/termine/Rathauskonzert-2.php
END:VEVENT
END:VCALENDAR