BEGIN:VCALENDAR
METHOD:PUBLISH
PRODID:-//Weblication CMS
VERSION:2.0
BEGIN:VEVENT
SUMMARY:Platzkonzert LOL - Legends of Life
DTSTART:20240804T153000
DTEND:20240804T153000
DESCRIPTION:
LOCATION:Marktplatz
UID:https://lorsch.de/de/veranstaltungen/termine/Platzkonzert-8.php
URL:https://lorsch.de/de/veranstaltungen/termine/Platzkonzert-8.php
END:VEVENT
END:VCALENDAR