BEGIN:VCALENDAR
METHOD:PUBLISH
PRODID:-//Weblication CMS
VERSION:2.0
BEGIN:VEVENT
SUMMARY:Platzkonzert Stadtkapelle Heppenheim
DTSTART:20240609T153000
DTEND:20240609T153000
DESCRIPTION:
LOCATION:Marktplatz
UID:https://lorsch.de/de/veranstaltungen/termine/Platzkonzert-4.php
URL:https://lorsch.de/de/veranstaltungen/termine/Platzkonzert-4.php
END:VEVENT
END:VCALENDAR