BEGIN:VCALENDAR
METHOD:PUBLISH
PRODID:-//Weblication CMS
VERSION:2.0
BEGIN:VEVENT
SUMMARY:Platzkonzert Ev. Bläserchor Biebesheim
DTSTART:20240901T153000
DTEND:20240901T153000
DESCRIPTION:
LOCATION:Marktplatz
UID:https://lorsch.de/de/veranstaltungen/termine/Platzkonzert-10.php
URL:https://lorsch.de/de/veranstaltungen/termine/Platzkonzert-10.php
END:VEVENT
END:VCALENDAR