BEGIN:VCALENDAR
METHOD:PUBLISH
PRODID:-//Weblication CMS
VERSION:2.0
BEGIN:VEVENT
SUMMARY:Paula-Sprechstunde
DTSTART:20240411T090000
DTEND:20240411T113000
DESCRIPTION:
LOCATION:Stadthaus
UID:https://lorsch.de/de/veranstaltungen/termine/Paula-Sprechstunde.php
URL:https://lorsch.de/de/veranstaltungen/termine/Paula-Sprechstunde.php
END:VEVENT
END:VCALENDAR