BEGIN:VCALENDAR
METHOD:PUBLISH
PRODID:-//Weblication CMS
VERSION:2.0
BEGIN:VEVENT
SUMMARY:Offene Kirche
DTSTART:20241007T190000
DTEND:20241007T190000
DESCRIPTION:
LOCATION:Kath. Kirche St. Nazarius Lorsch
UID:https://lorsch.de/de/veranstaltungen/termine/Offene-Kirche-3.php
URL:https://lorsch.de/de/veranstaltungen/termine/Offene-Kirche-3.php
END:VEVENT
BEGIN:VEVENT
SUMMARY:Offene Kirche
DTSTART:20241104T190000
DTEND:20241104T190000
DESCRIPTION:
LOCATION:Kath. Kirche St. Nazarius Lorsch
UID:https://lorsch.de/de/veranstaltungen/termine/Offene-Kirche-3.php
URL:https://lorsch.de/de/veranstaltungen/termine/Offene-Kirche-3.php
END:VEVENT
BEGIN:VEVENT
SUMMARY:Offene Kirche
DTSTART:20241209T190000
DTEND:20241209T190000
DESCRIPTION:
LOCATION:Kath. Kirche St. Nazarius Lorsch
UID:https://lorsch.de/de/veranstaltungen/termine/Offene-Kirche-3.php
URL:https://lorsch.de/de/veranstaltungen/termine/Offene-Kirche-3.php
END:VEVENT
BEGIN:VEVENT
SUMMARY:Offene Kirche
DTSTART:20250113T190000
DTEND:20250113T190000
DESCRIPTION:
LOCATION:Kath. Kirche St. Nazarius Lorsch
UID:https://lorsch.de/de/veranstaltungen/termine/Offene-Kirche-3.php
URL:https://lorsch.de/de/veranstaltungen/termine/Offene-Kirche-3.php
END:VEVENT
BEGIN:VEVENT
SUMMARY:Offene Kirche
DTSTART:20250210T190000
DTEND:20250210T190000
DESCRIPTION:
LOCATION:Kath. Kirche St. Nazarius Lorsch
UID:https://lorsch.de/de/veranstaltungen/termine/Offene-Kirche-3.php
URL:https://lorsch.de/de/veranstaltungen/termine/Offene-Kirche-3.php
END:VEVENT
END:VCALENDAR