BEGIN:VCALENDAR
METHOD:PUBLISH
PRODID:-//Weblication CMS
VERSION:2.0
BEGIN:VEVENT
SUMMARY:Night of songs mit dem MGV Germania
DTSTART:20251025T190000
DTEND:20251025T190000
DESCRIPTION:
LOCATION:Paulusheim
UID:https://lorsch.de/de/veranstaltungen/termine/Night-of-songs.php
URL:https://lorsch.de/de/veranstaltungen/termine/Night-of-songs.php
END:VEVENT
END:VCALENDAR