BEGIN:VCALENDAR
METHOD:PUBLISH
PRODID:-//Weblication CMS
VERSION:2.0
BEGIN:VEVENT
SUMMARY:Neujahrskonzert
DTSTART:20250202T180000
DTEND:20250202T180000
DESCRIPTION:mit Künstlern des Staatstheaters Darmstadt
LOCATION:Paul-Schnitzer-Saal
UID:https://lorsch.de/de/veranstaltungen/termine/Neujahrskonzert-1.php
URL:https://lorsch.de/de/veranstaltungen/termine/Neujahrskonzert-1.php
END:VEVENT
END:VCALENDAR