BEGIN:VCALENDAR
METHOD:PUBLISH
PRODID:-//Weblication CMS
VERSION:2.0
BEGIN:VEVENT
SUMMARY:Neujahrsempfang
DTSTART:20250101T160000
DTEND:20250101T160000
DESCRIPTION:
LOCATION:Nibelungensaal im Alten Rathaus
UID:https://lorsch.de/de/veranstaltungen/termine/Neujahrsempfang-4.php
URL:https://lorsch.de/de/veranstaltungen/termine/Neujahrsempfang-4.php
END:VEVENT
END:VCALENDAR