BEGIN:VCALENDAR
METHOD:PUBLISH
PRODID:-//Weblication CMS
VERSION:2.0
BEGIN:VEVENT
SUMMARY:Neujahrsempfang
DTSTART:20240101T160000
DTEND:20240101T160000
DESCRIPTION:
LOCATION:Nibelungensaal im Alten Rathaus
UID:https://lorsch.de/de/veranstaltungen/termine/Neujahrsempfang-2.php
URL:https://lorsch.de/de/veranstaltungen/termine/Neujahrsempfang-2.php
END:VEVENT
END:VCALENDAR