BEGIN:VCALENDAR
METHOD:PUBLISH
PRODID:-//Weblication CMS
VERSION:2.0
BEGIN:VEVENT
SUMMARY:Malteser Hausnotruf-Sprechstunde in Heppenheim
DTSTART:20251028T100000
DTEND:20251028T140000
DESCRIPTION:Beratung zur Sicherheit zu Hause im Alter
LOCATION:
UID:https://lorsch.de/de/veranstaltungen/termine/Malteser-Hausnotruf-Sprechstunde-in-Heppenheim.php
URL:https://lorsch.de/de/veranstaltungen/termine/Malteser-Hausnotruf-Sprechstunde-in-Heppenheim.php
END:VEVENT
BEGIN:VEVENT
SUMMARY:Malteser Hausnotruf-Sprechstunde in Heppenheim
DTSTART:20251111T100000
DTEND:20251111T140000
DESCRIPTION:Beratung zur Sicherheit zu Hause im Alter
LOCATION:
UID:https://lorsch.de/de/veranstaltungen/termine/Malteser-Hausnotruf-Sprechstunde-in-Heppenheim.php
URL:https://lorsch.de/de/veranstaltungen/termine/Malteser-Hausnotruf-Sprechstunde-in-Heppenheim.php
END:VEVENT
BEGIN:VEVENT
SUMMARY:Malteser Hausnotruf-Sprechstunde in Heppenheim
DTSTART:20251125T100000
DTEND:20251125T140000
DESCRIPTION:Beratung zur Sicherheit zu Hause im Alter
LOCATION:
UID:https://lorsch.de/de/veranstaltungen/termine/Malteser-Hausnotruf-Sprechstunde-in-Heppenheim.php
URL:https://lorsch.de/de/veranstaltungen/termine/Malteser-Hausnotruf-Sprechstunde-in-Heppenheim.php
END:VEVENT
BEGIN:VEVENT
SUMMARY:Malteser Hausnotruf-Sprechstunde in Heppenheim
DTSTART:20251202T100000
DTEND:20251202T140000
DESCRIPTION:Beratung zur Sicherheit zu Hause im Alter
LOCATION:
UID:https://lorsch.de/de/veranstaltungen/termine/Malteser-Hausnotruf-Sprechstunde-in-Heppenheim.php
URL:https://lorsch.de/de/veranstaltungen/termine/Malteser-Hausnotruf-Sprechstunde-in-Heppenheim.php
END:VEVENT
END:VCALENDAR