BEGIN:VCALENDAR
METHOD:PUBLISH
PRODID:-//Weblication CMS
VERSION:2.0
BEGIN:VEVENT
SUMMARY:Lokalschau / Ausstellung Geflügel und Kaninchen
DTSTART:20241103T100000
DTEND:20241103T170000
DESCRIPTION:
LOCATION:
UID:https://lorsch.de/de/veranstaltungen/termine/Lokalschau-Ausstellung-Gefluegel-und-Kaninchen.php
URL:https://lorsch.de/de/veranstaltungen/termine/Lokalschau-Ausstellung-Gefluegel-und-Kaninchen.php
END:VEVENT
END:VCALENDAR