BEGIN:VCALENDAR
METHOD:PUBLISH
PRODID:-//Weblication CMS
VERSION:2.0
BEGIN:VEVENT
SUMMARY:Laternenumzug
DTSTART:20251107T170000
DTEND:20251107T170000
DESCRIPTION:
LOCATION:Birkengarten
UID:https://lorsch.de/de/veranstaltungen/termine/Laternenumzug.php
URL:https://lorsch.de/de/veranstaltungen/termine/Laternenumzug.php
END:VEVENT
END:VCALENDAR