BEGIN:VCALENDAR
METHOD:PUBLISH
PRODID:-//Weblication CMS
VERSION:2.0
BEGIN:VEVENT
SUMMARY:Kultursalon
DTSTART:20250422T200000
DTEND:20250422T200000
DESCRIPTION:
LOCATION:Theater Sapperlot
UID:https://lorsch.de/de/veranstaltungen/termine/Kultursalon-8.php
URL:https://lorsch.de/de/veranstaltungen/termine/Kultursalon-8.php
END:VEVENT
BEGIN:VEVENT
SUMMARY:Kultursalon
DTSTART:20250527T200000
DTEND:20250527T200000
DESCRIPTION:
LOCATION:Theater Sapperlot
UID:https://lorsch.de/de/veranstaltungen/termine/Kultursalon-8.php
URL:https://lorsch.de/de/veranstaltungen/termine/Kultursalon-8.php
END:VEVENT
BEGIN:VEVENT
SUMMARY:Kultursalon
DTSTART:20250826T200000
DTEND:20250826T200000
DESCRIPTION:
LOCATION:Theater Sapperlot
UID:https://lorsch.de/de/veranstaltungen/termine/Kultursalon-8.php
URL:https://lorsch.de/de/veranstaltungen/termine/Kultursalon-8.php
END:VEVENT
BEGIN:VEVENT
SUMMARY:Kultursalon
DTSTART:20250930T200000
DTEND:20250930T200000
DESCRIPTION:
LOCATION:Theater Sapperlot
UID:https://lorsch.de/de/veranstaltungen/termine/Kultursalon-8.php
URL:https://lorsch.de/de/veranstaltungen/termine/Kultursalon-8.php
END:VEVENT
BEGIN:VEVENT
SUMMARY:Kultursalon
DTSTART:20251028T200000
DTEND:20251028T200000
DESCRIPTION:
LOCATION:Theater Sapperlot
UID:https://lorsch.de/de/veranstaltungen/termine/Kultursalon-8.php
URL:https://lorsch.de/de/veranstaltungen/termine/Kultursalon-8.php
END:VEVENT
BEGIN:VEVENT
SUMMARY:Kultursalon
DTSTART:20251125T200000
DTEND:20251125T200000
DESCRIPTION:
LOCATION:Theater Sapperlot
UID:https://lorsch.de/de/veranstaltungen/termine/Kultursalon-8.php
URL:https://lorsch.de/de/veranstaltungen/termine/Kultursalon-8.php
END:VEVENT
BEGIN:VEVENT
SUMMARY:Kultursalon
DTSTART:20251209T200000
DTEND:20251209T200000
DESCRIPTION:
LOCATION:Theater Sapperlot
UID:https://lorsch.de/de/veranstaltungen/termine/Kultursalon-8.php
URL:https://lorsch.de/de/veranstaltungen/termine/Kultursalon-8.php
END:VEVENT
END:VCALENDAR