BEGIN:VCALENDAR
METHOD:PUBLISH
PRODID:-//Weblication CMS
VERSION:2.0
BEGIN:VEVENT
SUMMARY:Kreismeisterschaften Dressur
DTSTART;VALUE=DATE:20260604
DTEND;VALUE=DATE:20260607
DESCRIPTION:DO, SA - SO
LOCATION:Vereinsgelände
UID:https://lorsch.de/de/veranstaltungen/termine/Kreismeisterschaften-Dressur.php
URL:https://lorsch.de/de/veranstaltungen/termine/Kreismeisterschaften-Dressur.php
END:VEVENT
END:VCALENDAR