BEGIN:VCALENDAR
METHOD:PUBLISH
PRODID:-//Weblication CMS
VERSION:2.0
BEGIN:VEVENT
SUMMARY:Kräutergartenführung
DTSTART:20251005T140000
DTEND:20251005T140000
DESCRIPTION:"Kräuter für die kalte Jahreszeit aus dem Lorscher Arzneibuch"
LOCATION:Klostergelände
UID:https://lorsch.de/de/veranstaltungen/termine/Kraeutergartenfuehrung-Oktober.php
URL:https://lorsch.de/de/veranstaltungen/termine/Kraeutergartenfuehrung-Oktober.php
END:VEVENT
END:VCALENDAR