BEGIN:VCALENDAR
METHOD:PUBLISH
PRODID:-//Weblication CMS
VERSION:2.0
BEGIN:VEVENT
SUMMARY:Kabarett Fatal I Mixshow
DTSTART:20260204T200000
DTEND:20260204T200000
DESCRIPTION:
LOCATION:Theater Sapperlot
UID:https://lorsch.de/de/veranstaltungen/termine/Kabarett-Fatal-Mixed-Show.php
URL:https://lorsch.de/de/veranstaltungen/termine/Kabarett-Fatal-Mixed-Show.php
END:VEVENT
END:VCALENDAR