BEGIN:VCALENDAR
METHOD:PUBLISH
PRODID:-//Weblication CMS
VERSION:2.0
BEGIN:VEVENT
SUMMARY:Jubiläumskonzert 50 Jahre Schola St. Nazarius
DTSTART:20231112T160000
DTEND:20231112T000000
DESCRIPTION:VERSCHOBEN
LOCATION:Kath. Kirche St. Nazarius Lorsch
UID:https://lorsch.de/de/veranstaltungen/termine/Jubilaeumskonzert-50-Jahre-Schola-St-Nazarius.php
URL:https://lorsch.de/de/veranstaltungen/termine/Jubilaeumskonzert-50-Jahre-Schola-St-Nazarius.php
END:VEVENT
END:VCALENDAR