BEGIN:VCALENDAR
METHOD:PUBLISH
PRODID:-//Weblication CMS
VERSION:2.0
BEGIN:VEVENT
SUMMARY:Jakob Heymann – Musik für Optimisten
DTSTART:20251105T200000
DTEND:20251105T200000
DESCRIPTION:
LOCATION:Theater Sapperlot
UID:https://lorsch.de/de/veranstaltungen/termine/Jakob-Heymann-Musik-fuer-Optimisten.php
URL:https://lorsch.de/de/veranstaltungen/termine/Jakob-Heymann-Musik-fuer-Optimisten.php
END:VEVENT
END:VCALENDAR