BEGIN:VCALENDAR
METHOD:PUBLISH
PRODID:-//Weblication CMS
VERSION:2.0
BEGIN:VEVENT
SUMMARY:Herbstfest mit Handwerkermarkt
DTSTART:20261018T100000
DTEND:20261018T100000
DESCRIPTION:
LOCATION:Freilichtlabor Lauresham
UID:https://lorsch.de/de/veranstaltungen/termine/Herbstfest-mit-Handwerkermarkt.php
URL:https://lorsch.de/de/veranstaltungen/termine/Herbstfest-mit-Handwerkermarkt.php
END:VEVENT
END:VCALENDAR