BEGIN:VCALENDAR
METHOD:PUBLISH
PRODID:-//Weblication CMS
VERSION:2.0
BEGIN:VEVENT
SUMMARY:Groove in den Mai
DTSTART:20260430T190000
DTEND:20260430T190000
DESCRIPTION:
LOCATION:Vereinsgelände
UID:https://lorsch.de/de/veranstaltungen/termine/Groove-in-den-Mai.php
URL:https://lorsch.de/de/veranstaltungen/termine/Groove-in-den-Mai.php
END:VEVENT
END:VCALENDAR