BEGIN:VCALENDAR
METHOD:PUBLISH
PRODID:-//Weblication CMS
VERSION:2.0
BEGIN:VEVENT
SUMMARY:Gartenstammtisch
DTSTART:20240514T183000
DTEND:20240514T200000
DESCRIPTION:
LOCATION:
UID:https://lorsch.de/de/veranstaltungen/termine/Gartenstammtisch-1.php
URL:https://lorsch.de/de/veranstaltungen/termine/Gartenstammtisch-1.php
END:VEVENT
BEGIN:VEVENT
SUMMARY:Gartenstammtisch
DTSTART:20240611T183000
DTEND:20240611T200000
DESCRIPTION:
LOCATION:
UID:https://lorsch.de/de/veranstaltungen/termine/Gartenstammtisch-1.php
URL:https://lorsch.de/de/veranstaltungen/termine/Gartenstammtisch-1.php
END:VEVENT
BEGIN:VEVENT
SUMMARY:Gartenstammtisch
DTSTART:20240709T183000
DTEND:20240709T200000
DESCRIPTION:
LOCATION:
UID:https://lorsch.de/de/veranstaltungen/termine/Gartenstammtisch-1.php
URL:https://lorsch.de/de/veranstaltungen/termine/Gartenstammtisch-1.php
END:VEVENT
BEGIN:VEVENT
SUMMARY:Gartenstammtisch
DTSTART:20240813T183000
DTEND:20240813T200000
DESCRIPTION:
LOCATION:
UID:https://lorsch.de/de/veranstaltungen/termine/Gartenstammtisch-1.php
URL:https://lorsch.de/de/veranstaltungen/termine/Gartenstammtisch-1.php
END:VEVENT
BEGIN:VEVENT
SUMMARY:Gartenstammtisch
DTSTART:20240910T183000
DTEND:20240910T200000
DESCRIPTION:
LOCATION:
UID:https://lorsch.de/de/veranstaltungen/termine/Gartenstammtisch-1.php
URL:https://lorsch.de/de/veranstaltungen/termine/Gartenstammtisch-1.php
END:VEVENT
END:VCALENDAR