BEGIN:VCALENDAR
METHOD:PUBLISH
PRODID:-//Weblication CMS
VERSION:2.0
BEGIN:VEVENT
SUMMARY:Fronleichnam
DTSTART:20260604T100000
DTEND:20260604T100000
DESCRIPTION:Hochamt – anschließend Fronleichnamsprozession 
LOCATION:Innenstadt 
UID:https://lorsch.de/de/veranstaltungen/termine/Fronleichnam.php
URL:https://lorsch.de/de/veranstaltungen/termine/Fronleichnam.php
END:VEVENT
END:VCALENDAR