BEGIN:VCALENDAR
METHOD:PUBLISH
PRODID:-//Weblication CMS
VERSION:2.0
BEGIN:VEVENT
SUMMARY:Frauenfrühstück – Politik in unserer Stadt
DTSTART:20240302T093000
DTEND:20240302T113000
DESCRIPTION:
LOCATION:Paul-Schnitzer-Saal
UID:https://lorsch.de/de/veranstaltungen/termine/Frauenfruehstueck-Politik-in-unserer-Stadt.php
URL:https://lorsch.de/de/veranstaltungen/termine/Frauenfruehstueck-Politik-in-unserer-Stadt.php
END:VEVENT
END:VCALENDAR