BEGIN:VCALENDAR
METHOD:PUBLISH
PRODID:-//Weblication CMS
VERSION:2.0
BEGIN:VEVENT
SUMMARY:Fettrahmenverkauf im Vogelpark
DTSTART:20231125T110000
DTEND:20231125T110000
DESCRIPTION:
LOCATION:
UID:https://lorsch.de/de/veranstaltungen/termine/Fettrahmenverkauf-im-Vogelpark.php
URL:https://lorsch.de/de/veranstaltungen/termine/Fettrahmenverkauf-im-Vogelpark.php
END:VEVENT
END:VCALENDAR