BEGIN:VCALENDAR
METHOD:PUBLISH
PRODID:-//Weblication CMS
VERSION:2.0
BEGIN:VEVENT
SUMMARY:Fastnachtssitzung „Premiere“
DTSTART:20240202T190000
DTEND:20240202T190000
DESCRIPTION:
LOCATION:Nibelungenhalle
UID:https://lorsch.de/de/veranstaltungen/termine/Fastnachtssitzung-Premiere.php
URL:https://lorsch.de/de/veranstaltungen/termine/Fastnachtssitzung-Premiere.php
END:VEVENT
END:VCALENDAR