BEGIN:VCALENDAR
METHOD:PUBLISH
PRODID:-//Weblication CMS
VERSION:2.0
BEGIN:VEVENT
SUMMARY:Fastnachtssitzung „Premiere“
DTSTART:20260206T194500
DTEND:20260206T194500
DESCRIPTION:Bürger-Funken
LOCATION:Mehrzweckhalle Einhausen
UID:https://lorsch.de/de/veranstaltungen/termine/Fastnachtssitzung-Premiere-2.php
URL:https://lorsch.de/de/veranstaltungen/termine/Fastnachtssitzung-Premiere-2.php
END:VEVENT
END:VCALENDAR