BEGIN:VCALENDAR
METHOD:PUBLISH
PRODID:-//Weblication CMS
VERSION:2.0
BEGIN:VEVENT
SUMMARY:Fastnachtssitzung „Gala“
DTSTART:20240203T190000
DTEND:20240203T190000
DESCRIPTION:
LOCATION:Nibelungenhalle
UID:https://lorsch.de/de/veranstaltungen/termine/Fastnachtssitzung-Gala.php
URL:https://lorsch.de/de/veranstaltungen/termine/Fastnachtssitzung-Gala.php
END:VEVENT
END:VCALENDAR