BEGIN:VCALENDAR
METHOD:PUBLISH
PRODID:-//Weblication CMS
VERSION:2.0
BEGIN:VEVENT
SUMMARY:Familienkreuzweg
DTSTART:20260403T100000
DTEND:20260403T100000
DESCRIPTION:Katholische Kirchengemeinde
LOCATION:Kath. Kirche St. Nazarius Lorsch
UID:https://lorsch.de/de/veranstaltungen/termine/Familienkreuzweg.php
URL:https://lorsch.de/de/veranstaltungen/termine/Familienkreuzweg.php
END:VEVENT
END:VCALENDAR