BEGIN:VCALENDAR
METHOD:PUBLISH
PRODID:-//Weblication CMS
VERSION:2.0
BEGIN:VEVENT
SUMMARY:Erstkommunion
DTSTART:20240407T100000
DTEND:20240407T100000
DESCRIPTION:
LOCATION:Kath. Kirche St. Nazarius Lorsch
UID:https://lorsch.de/de/veranstaltungen/termine/Erstkommunion-2.php
URL:https://lorsch.de/de/veranstaltungen/termine/Erstkommunion-2.php
END:VEVENT
BEGIN:VEVENT
SUMMARY:Erstkommunion
DTSTART:20240414T100000
DTEND:20240414T100000
DESCRIPTION:
LOCATION:Kath. Kirche St. Nazarius Lorsch
UID:https://lorsch.de/de/veranstaltungen/termine/Erstkommunion-2.php
URL:https://lorsch.de/de/veranstaltungen/termine/Erstkommunion-2.php
END:VEVENT
END:VCALENDAR