BEGIN:VCALENDAR
METHOD:PUBLISH
PRODID:-//Weblication CMS
VERSION:2.0
BEGIN:VEVENT
SUMMARY:Erntedankfest
DTSTART:20241006T100000
DTEND:20241006T100000
DESCRIPTION:Familiengottesdienst
LOCATION:Evang. Kirche
UID:https://lorsch.de/de/veranstaltungen/termine/Erntedankfest.php
URL:https://lorsch.de/de/veranstaltungen/termine/Erntedankfest.php
END:VEVENT
END:VCALENDAR