BEGIN:VCALENDAR
METHOD:PUBLISH
PRODID:-//Weblication CMS
VERSION:2.0
BEGIN:VEVENT
SUMMARY:Dressur Turnier inklusive Kreismeisterschaften Dressur
DTSTART:20240530T160000
DTEND:20240602T160000
DESCRIPTION:
LOCATION:
UID:https://lorsch.de/de/veranstaltungen/termine/Dressur-Turnier-inclusive-Kreismeisterschaften-Dressur.php
URL:https://lorsch.de/de/veranstaltungen/termine/Dressur-Turnier-inclusive-Kreismeisterschaften-Dressur.php
END:VEVENT
END:VCALENDAR