BEGIN:VCALENDAR
METHOD:PUBLISH
PRODID:-//Weblication CMS
VERSION:2.0
BEGIN:VEVENT
SUMMARY:Dreikönigskuchen-Essen 
DTSTART:20240105T180000
DTEND:20240105T210000
DESCRIPTION:
LOCATION:Nibelungensaal im Alten Rathaus
UID:https://lorsch.de/de/veranstaltungen/termine/Dreikoenigskuchen-Essen.php
URL:https://lorsch.de/de/veranstaltungen/termine/Dreikoenigskuchen-Essen.php
END:VEVENT
END:VCALENDAR