BEGIN:VCALENDAR
METHOD:PUBLISH
PRODID:-//Weblication CMS
VERSION:2.0
BEGIN:VEVENT
SUMMARY:CDU Sommerfest
DTSTART:20250905T183000
DTEND:20250905T183000
DESCRIPTION:
LOCATION:
UID:https://lorsch.de/de/veranstaltungen/termine/CDU-Sommerfest-2.php
URL:https://lorsch.de/de/veranstaltungen/termine/CDU-Sommerfest-2.php
END:VEVENT
END:VCALENDAR