BEGIN:VCALENDAR
METHOD:PUBLISH
PRODID:-//Weblication CMS
VERSION:2.0
BEGIN:VEVENT
SUMMARY:Blutspende
DTSTART:20240308T140000
DTEND:20240308T193000
DESCRIPTION:
LOCATION:Werner-von-Siemens-Halle
UID:https://lorsch.de/de/veranstaltungen/termine/Blutspende.php
URL:https://lorsch.de/de/veranstaltungen/termine/Blutspende.php
END:VEVENT
END:VCALENDAR