BEGIN:VCALENDAR
METHOD:PUBLISH
PRODID:-//Weblication CMS
VERSION:2.0
BEGIN:VEVENT
SUMMARY:Blutspende
DTSTART:20240524T140000
DTEND:20240524T193000
DESCRIPTION:
LOCATION:Werner-von-Siemens-Halle
UID:https://lorsch.de/de/veranstaltungen/termine/Blutspende-1.php
URL:https://lorsch.de/de/veranstaltungen/termine/Blutspende-1.php
END:VEVENT
BEGIN:VEVENT
SUMMARY:Blutspende
DTSTART:20240802T140000
DTEND:20240802T193000
DESCRIPTION:
LOCATION:Werner-von-Siemens-Halle
UID:https://lorsch.de/de/veranstaltungen/termine/Blutspende-1.php
URL:https://lorsch.de/de/veranstaltungen/termine/Blutspende-1.php
END:VEVENT
END:VCALENDAR