BEGIN:VCALENDAR
METHOD:PUBLISH
PRODID:-//Weblication CMS
VERSION:2.0
BEGIN:VEVENT
SUMMARY:Birkengartenfestival
DTSTART;VALUE=DATE:20240703
DTEND;VALUE=DATE:20240707
DESCRIPTION:
LOCATION:Birkengarten
UID:https://lorsch.de/de/veranstaltungen/termine/Birkengartenfestival-3.php
URL:https://lorsch.de/de/veranstaltungen/termine/Birkengartenfestival-3.php
END:VEVENT
END:VCALENDAR