BEGIN:VCALENDAR
METHOD:PUBLISH
PRODID:-//Weblication CMS
VERSION:2.0
BEGIN:VEVENT
SUMMARY:Ausstellungsbeginn: Kulturgeschichte des Jochs
DTSTART:20240309T000000
DTEND:20240309T000000
DESCRIPTION:
LOCATION:Freilichtlabor Lauresham
UID:https://lorsch.de/de/veranstaltungen/termine/Ausstellungsbeginn-Kulturgeschichte-des-Jochs.php
URL:https://lorsch.de/de/veranstaltungen/termine/Ausstellungsbeginn-Kulturgeschichte-des-Jochs.php
END:VEVENT
END:VCALENDAR