BEGIN:VCALENDAR
METHOD:PUBLISH
PRODID:-//Weblication CMS
VERSION:2.0
BEGIN:VEVENT
SUMMARY:Andacht in der Friedhofskapelle
DTSTART:20251102T150000
DTEND:20251102T150000
DESCRIPTION:anschl. Gräbersegnung
LOCATION:Friedhofskapelle
UID:https://lorsch.de/de/veranstaltungen/termine/Andacht-in-der-Friedhofskapelle.php
URL:https://lorsch.de/de/veranstaltungen/termine/Andacht-in-der-Friedhofskapelle.php
END:VEVENT
END:VCALENDAR